BEGIN:VCALENDAR
PRODID:-//SoftBank Creative//Manually 1.1//EN
VERSION:2.0
METHOD:PUBLISH
BEGIN:VTIMEZONE
TZID:Japan
BEGIN:STANDARD
DTSTART:19390101T000000
TZOFFSETFROM:+0900
TZOFFSETTO:+0900
TZNAME:JST
END:STANDARD
END:VTIMEZONE
BEGIN:VEVENT
UID:202604250252_87999
DTSTAMP:20260425T025219
SUMMARY:【オンライン開催】楽々Document Plus　ペーパーレス化推進ウェビナー
LOCATION:
DESCRIPTION:https://www.sei-info.co.jp/document-plus/event/webinar-dp/?argument=EkZKmXCQ&dmai=semidpbs
DTSTART;TZID=Japan:20260519T160000
DTEND;TZID=Japan:20260519T170000
TRANSP:OPAQUE
SEQUENCE:1
PRIORITY:0
RELATED-TO;RELTYPE=SIBLING:<202604250252_87999>
CLASS:PUBLIC
END:VEVENT
END:VCALENDAR
