BEGIN:VCALENDAR
PRODID:-//SoftBank Creative//Manually 1.1//EN
VERSION:2.0
METHOD:PUBLISH
BEGIN:VTIMEZONE
TZID:Japan
BEGIN:STANDARD
DTSTART:19390101T000000
TZOFFSETFROM:+0900
TZOFFSETTO:+0900
TZNAME:JST
END:STANDARD
END:VTIMEZONE
BEGIN:VEVENT
UID:202604250122_88017
DTSTAMP:20260425T012222
SUMMARY:ITインフラ運用自動化ツールPOLESTAR Automation テーマ別Webセミナー
LOCATION:
DESCRIPTION:https://polestar.widetec.com/seminar/thematic_short_seminar
DTSTART;TZID=Japan:20260514T110000
DTEND;TZID=Japan:20260514T113000
TRANSP:OPAQUE
SEQUENCE:1
PRIORITY:0
RELATED-TO;RELTYPE=SIBLING:<202604250122_88017>
CLASS:PUBLIC
END:VEVENT
END:VCALENDAR
