BEGIN:VCALENDAR
PRODID:-//SoftBank Creative//Manually 1.1//EN
VERSION:2.0
METHOD:PUBLISH
BEGIN:VTIMEZONE
TZID:Japan
BEGIN:STANDARD
DTSTART:19390101T000000
TZOFFSETFROM:+0900
TZOFFSETTO:+0900
TZNAME:JST
END:STANDARD
END:VTIMEZONE
BEGIN:VEVENT
UID:202604200225_88055
DTSTAMP:20260420T022500
SUMMARY:USBメモリ/外付けHDD用データ消去ソフト USBディスクシュレッダー 製品紹介セミナー
LOCATION:
DESCRIPTION:https://www.disksh.com/usb/ds/seminar.html
DTSTART;TZID=Japan:20260422T150000
DTEND;TZID=Japan:20260422T160000
TRANSP:OPAQUE
SEQUENCE:1
PRIORITY:0
RELATED-TO;RELTYPE=SIBLING:<202604200225_88055>
CLASS:PUBLIC
END:VEVENT
END:VCALENDAR
