BEGIN:VCALENDAR
PRODID:-//SoftBank Creative//Manually 1.1//EN
VERSION:2.0
METHOD:PUBLISH
BEGIN:VTIMEZONE
TZID:Japan
BEGIN:STANDARD
DTSTART:19390101T000000
TZOFFSETFROM:+0900
TZOFFSETTO:+0900
TZNAME:JST
END:STANDARD
END:VTIMEZONE
BEGIN:VEVENT
UID:202604242045_88216
DTSTAMP:20260424T204500
SUMMARY:本格的ワークフロー専用システムが実現するペーパーレスとその他、そしてその先の価値とは？
LOCATION:
DESCRIPTION:https://www.sei-info.co.jp/workflow/event/webinar-wf/?argument=EkZKmXCQ&dmai=semiwfbs#theme05
DTSTART;TZID=Japan:20260518T150000
DTEND;TZID=Japan:20260518T160000
TRANSP:OPAQUE
SEQUENCE:1
PRIORITY:0
RELATED-TO;RELTYPE=SIBLING:<202604242045_88216>
CLASS:PUBLIC
END:VEVENT
END:VCALENDAR
