BEGIN:VCALENDAR
PRODID:-//SoftBank Creative//Manually 1.1//EN
VERSION:2.0
METHOD:PUBLISH
BEGIN:VTIMEZONE
TZID:Japan
BEGIN:STANDARD
DTSTART:19390101T000000
TZOFFSETFROM:+0900
TZOFFSETTO:+0900
TZNAME:JST
END:STANDARD
END:VTIMEZONE
BEGIN:VEVENT
UID:202604221705_88227
DTSTAMP:20260422T170517
SUMMARY:30分で丸わかり！シェアNo.1 データ連携ツール「ASTERIA Warp」紹介セミナー
LOCATION:
DESCRIPTION:https://asteria.zoom.us/webinar/register/4716032619971/WN_UpItilCcTPSEGmX8k_pS_w
DTSTART;TZID=Japan:20260512T110000
DTEND;TZID=Japan:20260512T113000
TRANSP:OPAQUE
SEQUENCE:1
PRIORITY:0
RELATED-TO;RELTYPE=SIBLING:<202604221705_88227>
CLASS:PUBLIC
END:VEVENT
END:VCALENDAR
