BEGIN:VCALENDAR
PRODID:-//SoftBank Creative//Manually 1.1//EN
VERSION:2.0
METHOD:PUBLISH
BEGIN:VTIMEZONE
TZID:Japan
BEGIN:STANDARD
DTSTART:19390101T000000
TZOFFSETFROM:+0900
TZOFFSETTO:+0900
TZNAME:JST
END:STANDARD
END:VTIMEZONE
BEGIN:VEVENT
UID:202604231942_88600
DTSTAMP:20260423T194201
SUMMARY:“DX停滞の本質”は使われないこと ノーコード?UI自由度が変えるUX
LOCATION:
DESCRIPTION:https://event.asteria.com/jp/event/p260513a/
DTSTART;TZID=Japan:20260513T110000
DTEND;TZID=Japan:20260513T120000
TRANSP:OPAQUE
SEQUENCE:1
PRIORITY:0
RELATED-TO;RELTYPE=SIBLING:<202604231942_88600>
CLASS:PUBLIC
END:VEVENT
END:VCALENDAR
