BEGIN:VCALENDAR
PRODID:-//SoftBank Creative//Manually 1.1//EN
VERSION:2.0
METHOD:PUBLISH
BEGIN:VTIMEZONE
TZID:Japan
BEGIN:STANDARD
DTSTART:19390101T000000
TZOFFSETFROM:+0900
TZOFFSETTO:+0900
TZNAME:JST
END:STANDARD
END:VTIMEZONE
BEGIN:VEVENT
UID:202604201306_88608
DTSTAMP:20260420T130606
SUMMARY:組織の運営・発展に欠かせない人事評価制度の考え方
LOCATION:
DESCRIPTION:https://us02web.zoom.us/webinar/register/WN_O1K8o-LoTF-vqpUYdbdItg
DTSTART;TZID=Japan:20260514T140000
DTEND;TZID=Japan:20260514T143500
TRANSP:OPAQUE
SEQUENCE:1
PRIORITY:0
RELATED-TO;RELTYPE=SIBLING:<202604201306_88608>
CLASS:PUBLIC
END:VEVENT
END:VCALENDAR
