BEGIN:VCALENDAR
PRODID:-//SoftBank Creative//Manually 1.1//EN
VERSION:2.0
METHOD:PUBLISH
BEGIN:VTIMEZONE
TZID:Japan
BEGIN:STANDARD
DTSTART:19390101T000000
TZOFFSETFROM:+0900
TZOFFSETTO:+0900
TZNAME:JST
END:STANDARD
END:VTIMEZONE
BEGIN:VEVENT
UID:202604201419_88609
DTSTAMP:20260420T141934
SUMMARY:これからは紙業務もデジタル化！ RPA×AIで切り拓く業務自動化の未来
LOCATION:
DESCRIPTION:https://us02web.zoom.us/webinar/register/WN_yR2gIZLDQgKsyTMcrIxMZw
DTSTART;TZID=Japan:20260521T140000
DTEND;TZID=Japan:20260521T143000
TRANSP:OPAQUE
SEQUENCE:1
PRIORITY:0
RELATED-TO;RELTYPE=SIBLING:<202604201419_88609>
CLASS:PUBLIC
END:VEVENT
END:VCALENDAR
