BEGIN:VCALENDAR
PRODID:-//SoftBank Creative//Manually 1.1//EN
VERSION:2.0
METHOD:PUBLISH
BEGIN:VTIMEZONE
TZID:Japan
BEGIN:STANDARD
DTSTART:19390101T000000
TZOFFSETFROM:+0900
TZOFFSETTO:+0900
TZNAME:JST
END:STANDARD
END:VTIMEZONE
BEGIN:VEVENT
UID:202604201558_88610
DTSTAMP:20260420T155827
SUMMARY:新時代を生き抜く これからの企業防災
LOCATION:
DESCRIPTION:https://us02web.zoom.us/webinar/register/WN_ZHo6s7VBR-ORd8wyaufujQ
DTSTART;TZID=Japan:20260528T133000
DTEND;TZID=Japan:20260528T150000
TRANSP:OPAQUE
SEQUENCE:1
PRIORITY:0
RELATED-TO;RELTYPE=SIBLING:<202604201558_88610>
CLASS:PUBLIC
END:VEVENT
END:VCALENDAR
