BEGIN:VCALENDAR
PRODID:-//SoftBank Creative//Manually 1.1//EN
VERSION:2.0
METHOD:PUBLISH
BEGIN:VTIMEZONE
TZID:Japan
BEGIN:STANDARD
DTSTART:19390101T000000
TZOFFSETFROM:+0900
TZOFFSETTO:+0900
TZNAME:JST
END:STANDARD
END:VTIMEZONE
BEGIN:VEVENT
UID:202604231432_88657
DTSTAMP:20260423T143233
SUMMARY:PIMS認証対策セミナー ～6年ぶりの大幅改定の概要と対策ポイント～
LOCATION:
DESCRIPTION:https://www.nri-secure.co.jp/seminar/2026/0514pims
DTSTART;TZID=Japan:20260514T120500
DTEND;TZID=Japan:20260514T125500
TRANSP:OPAQUE
SEQUENCE:1
PRIORITY:0
RELATED-TO;RELTYPE=SIBLING:<202604231432_88657>
CLASS:PUBLIC
END:VEVENT
END:VCALENDAR
