BEGIN:VCALENDAR
PRODID:-//SoftBank Creative//Manually 1.1//EN
VERSION:2.0
METHOD:PUBLISH
BEGIN:VTIMEZONE
TZID:Japan
BEGIN:STANDARD
DTSTART:19390101T000000
TZOFFSETFROM:+0900
TZOFFSETTO:+0900
TZNAME:JST
END:STANDARD
END:VTIMEZONE
BEGIN:VEVENT
UID:202604201145_88674
DTSTAMP:20260420T114520
SUMMARY:今やらないと手遅れになる管理職変革のポイント
LOCATION:WEBセミナー
DESCRIPTION:https://go.all-different.co.jp/l/134681/2025-02-05/6jjyvq
DTSTART;TZID=Japan:20260525T133000
DTEND;TZID=Japan:20260525T143000
TRANSP:OPAQUE
SEQUENCE:1
PRIORITY:0
RELATED-TO;RELTYPE=SIBLING:<202604201145_88674>
CLASS:PUBLIC
END:VEVENT
END:VCALENDAR
