BEGIN:VCALENDAR
PRODID:-//SoftBank Creative//Manually 1.1//EN
VERSION:2.0
METHOD:PUBLISH
BEGIN:VTIMEZONE
TZID:Japan
BEGIN:STANDARD
DTSTART:19390101T000000
TZOFFSETFROM:+0900
TZOFFSETTO:+0900
TZNAME:JST
END:STANDARD
END:VTIMEZONE
BEGIN:VEVENT
UID:202604201152_88675
DTSTAMP:20260420T115253
SUMMARY:企業が成長するための女性活躍の勘所＜女性リーダーの養成に向けて＞
LOCATION:WEBセミナー
DESCRIPTION:https://go.all-different.co.jp/l/134681/2023-07-09/6h4m9m
DTSTART;TZID=Japan:20260512T133000
DTEND;TZID=Japan:20260512T143000
TRANSP:OPAQUE
SEQUENCE:1
PRIORITY:0
RELATED-TO;RELTYPE=SIBLING:<202604201152_88675>
CLASS:PUBLIC
END:VEVENT
END:VCALENDAR
