BEGIN:VCALENDAR
PRODID:-//SoftBank Creative//Manually 1.1//EN
VERSION:2.0
METHOD:PUBLISH
BEGIN:VTIMEZONE
TZID:Japan
BEGIN:STANDARD
DTSTART:19390101T000000
TZOFFSETFROM:+0900
TZOFFSETTO:+0900
TZNAME:JST
END:STANDARD
END:VTIMEZONE
BEGIN:VEVENT
UID:202604201306_88686
DTSTAMP:20260420T130642
SUMMARY:楽々Document Plus　ペーパーレス化推進ウェビナー
LOCATION:
DESCRIPTION:https://www.sei-info.co.jp/document-plus/event/webinar-dp/?argument=EkZKmXCQ&dmai=semidpbs#theme01
DTSTART;TZID=Japan:20260714T160000
DTEND;TZID=Japan:20260714T170000
TRANSP:OPAQUE
SEQUENCE:1
PRIORITY:0
RELATED-TO;RELTYPE=SIBLING:<202604201306_88686>
CLASS:PUBLIC
END:VEVENT
END:VCALENDAR
