BEGIN:VCALENDAR
PRODID:-//SoftBank Creative//Manually 1.1//EN
VERSION:2.0
METHOD:PUBLISH
BEGIN:VTIMEZONE
TZID:Japan
BEGIN:STANDARD
DTSTART:19390101T000000
TZOFFSETFROM:+0900
TZOFFSETTO:+0900
TZNAME:JST
END:STANDARD
END:VTIMEZONE
BEGIN:VEVENT
UID:202604212154_88692
DTSTAMP:20260421T215416
SUMMARY:1on1を成功させるための仕組みとスキル
LOCATION:WEBセミナー
DESCRIPTION:https://go.all-different.co.jp/l/134681/2026-04-19/6kfnfn
DTSTART;TZID=Japan:20260521T133000
DTEND;TZID=Japan:20260521T143000
TRANSP:OPAQUE
SEQUENCE:1
PRIORITY:0
RELATED-TO;RELTYPE=SIBLING:<202604212154_88692>
CLASS:PUBLIC
END:VEVENT
END:VCALENDAR
