BEGIN:VCALENDAR
PRODID:-//SoftBank Creative//Manually 1.1//EN
VERSION:2.0
METHOD:PUBLISH
BEGIN:VTIMEZONE
TZID:Japan
BEGIN:STANDARD
DTSTART:19390101T000000
TZOFFSETFROM:+0900
TZOFFSETTO:+0900
TZNAME:JST
END:STANDARD
END:VTIMEZONE
BEGIN:VEVENT
UID:202604202119_88695
DTSTAMP:20260420T211946
SUMMARY:【全2回シリーズ】ユーザーID統合プロジェクトリーダーのための企画推進ガイド 【第2回】
LOCATION:
DESCRIPTION:https://info.nttcoms.com/l/82272/2026-04-20/f29c34
DTSTART;TZID=Japan:20260520T130000
DTEND;TZID=Japan:20260520T134500
TRANSP:OPAQUE
SEQUENCE:1
PRIORITY:0
RELATED-TO;RELTYPE=SIBLING:<202604202119_88695>
CLASS:PUBLIC
END:VEVENT
END:VCALENDAR
