BEGIN:VCALENDAR
PRODID:-//SoftBank Creative//Manually 1.1//EN
VERSION:2.0
METHOD:PUBLISH
BEGIN:VTIMEZONE
TZID:Japan
BEGIN:STANDARD
DTSTART:19390101T000000
TZOFFSETFROM:+0900
TZOFFSETTO:+0900
TZNAME:JST
END:STANDARD
END:VTIMEZONE
BEGIN:VEVENT
UID:202604221904_88696
DTSTAMP:20260422T190420
SUMMARY:SSL-VPN廃止までまもなく！ 今すぐ見直すべきリモートアクセスの最適解とは
LOCATION:
DESCRIPTION:https://mktg.daj.jp/public/application/add/15846
DTSTART;TZID=Japan:20260519T150000
DTEND;TZID=Japan:20260519T154000
TRANSP:OPAQUE
SEQUENCE:1
PRIORITY:0
RELATED-TO;RELTYPE=SIBLING:<202604221904_88696>
CLASS:PUBLIC
END:VEVENT
END:VCALENDAR
