BEGIN:VCALENDAR
PRODID:-//SoftBank Creative//Manually 1.1//EN
VERSION:2.0
METHOD:PUBLISH
BEGIN:VTIMEZONE
TZID:Japan
BEGIN:STANDARD
DTSTART:19390101T000000
TZOFFSETFROM:+0900
TZOFFSETTO:+0900
TZNAME:JST
END:STANDARD
END:VTIMEZONE
BEGIN:VEVENT
UID:202604221904_88697
DTSTAMP:20260422T190423
SUMMARY:「そのアップロード、大丈夫？」 生成AI、クラウド利用時の情報漏えい対策を解説！
LOCATION:
DESCRIPTION:https://mktg.daj.jp/public/application/add/15848
DTSTART;TZID=Japan:20260520T150000
DTEND;TZID=Japan:20260520T154000
TRANSP:OPAQUE
SEQUENCE:1
PRIORITY:0
RELATED-TO;RELTYPE=SIBLING:<202604221904_88697>
CLASS:PUBLIC
END:VEVENT
END:VCALENDAR
