BEGIN:VCALENDAR
PRODID:-//SoftBank Creative//Manually 1.1//EN
VERSION:2.0
METHOD:PUBLISH
BEGIN:VTIMEZONE
TZID:Japan
BEGIN:STANDARD
DTSTART:19390101T000000
TZOFFSETFROM:+0900
TZOFFSETTO:+0900
TZNAME:JST
END:STANDARD
END:VTIMEZONE
BEGIN:VEVENT
UID:202604221901_88698
DTSTAMP:20260422T190151
SUMMARY:まず何からやる？優先順位が分かるSCS評価制度の進め方
LOCATION:
DESCRIPTION:https://mktg.daj.jp/public/application/add/15850
DTSTART;TZID=Japan:20260526T150000
DTEND;TZID=Japan:20260526T154000
TRANSP:OPAQUE
SEQUENCE:1
PRIORITY:0
RELATED-TO;RELTYPE=SIBLING:<202604221901_88698>
CLASS:PUBLIC
END:VEVENT
END:VCALENDAR
