BEGIN:VCALENDAR
PRODID:-//SoftBank Creative//Manually 1.1//EN
VERSION:2.0
METHOD:PUBLISH
BEGIN:VTIMEZONE
TZID:Japan
BEGIN:STANDARD
DTSTART:19390101T000000
TZOFFSETFROM:+0900
TZOFFSETTO:+0900
TZNAME:JST
END:STANDARD
END:VTIMEZONE
BEGIN:VEVENT
UID:202604221904_88699
DTSTAMP:20260422T190423
SUMMARY:【自治体のメール運用見直し】 三層分離／α’モデルに対応した対策と運用のポイント
LOCATION:
DESCRIPTION:https://mktg.daj.jp/public/application/add/15852
DTSTART;TZID=Japan:20260528T150000
DTEND;TZID=Japan:20260528T154000
TRANSP:OPAQUE
SEQUENCE:1
PRIORITY:0
RELATED-TO;RELTYPE=SIBLING:<202604221904_88699>
CLASS:PUBLIC
END:VEVENT
END:VCALENDAR
