BEGIN:VCALENDAR
PRODID:-//SoftBank Creative//Manually 1.1//EN
VERSION:2.0
METHOD:PUBLISH
BEGIN:VTIMEZONE
TZID:Japan
BEGIN:STANDARD
DTSTART:19390101T000000
TZOFFSETFROM:+0900
TZOFFSETTO:+0900
TZNAME:JST
END:STANDARD
END:VTIMEZONE
BEGIN:VEVENT
UID:202604231212_88700
DTSTAMP:20260423T121214
SUMMARY:AS/400リライトの進め方をQ&Aで徹底解説！
LOCATION:
DESCRIPTION:https://www.kobelcosys.co.jp/event_seminars/detail/20260624/?ref=bit
DTSTART;TZID=Japan:20260624T140000
DTEND;TZID=Japan:20260624T143000
TRANSP:OPAQUE
SEQUENCE:1
PRIORITY:0
RELATED-TO;RELTYPE=SIBLING:<202604231212_88700>
CLASS:PUBLIC
END:VEVENT
END:VCALENDAR
