BEGIN:VCALENDAR
PRODID:-//SoftBank Creative//Manually 1.1//EN
VERSION:2.0
METHOD:PUBLISH
BEGIN:VTIMEZONE
TZID:Japan
BEGIN:STANDARD
DTSTART:19390101T000000
TZOFFSETFROM:+0900
TZOFFSETTO:+0900
TZNAME:JST
END:STANDARD
END:VTIMEZONE
BEGIN:VEVENT
UID:202604211616_88702
DTSTAMP:20260421T161657
SUMMARY:情報システム部門、DX部門が押さえるべき 生成AIによるプロジェクト管理・ナレッジ活用の実践ポイント
LOCATION:
DESCRIPTION:https://systemcon.co.jp/resources/articles/seminer/genai-project-knowledge-management-it-dx/
DTSTART;TZID=Japan:20260513T160000
DTEND;TZID=Japan:20260513T170000
TRANSP:OPAQUE
SEQUENCE:1
PRIORITY:0
RELATED-TO;RELTYPE=SIBLING:<202604211616_88702>
CLASS:PUBLIC
END:VEVENT
END:VCALENDAR
