BEGIN:VCALENDAR
PRODID:-//SoftBank Creative//Manually 1.1//EN
VERSION:2.0
METHOD:PUBLISH
BEGIN:VTIMEZONE
TZID:Japan
BEGIN:STANDARD
DTSTART:19390101T000000
TZOFFSETFROM:+0900
TZOFFSETTO:+0900
TZNAME:JST
END:STANDARD
END:VTIMEZONE
BEGIN:VEVENT
UID:202604211747_88703
DTSTAMP:20260421T174736
SUMMARY:BIが可視化する＆AIがサポートする！中堅・中小企業の“即効データ活用”術
LOCATION:オンライン
DESCRIPTION:https://solution.ndisol.jp/domo/event/bi-visualizes-ai-supports
DTSTART;TZID=Japan:20260428T140000
DTEND;TZID=Japan:20260428T143000
TRANSP:OPAQUE
SEQUENCE:1
PRIORITY:0
RELATED-TO;RELTYPE=SIBLING:<202604211747_88703>
CLASS:PUBLIC
END:VEVENT
END:VCALENDAR
