BEGIN:VCALENDAR
PRODID:-//SoftBank Creative//Manually 1.1//EN
VERSION:2.0
METHOD:PUBLISH
BEGIN:VTIMEZONE
TZID:Japan
BEGIN:STANDARD
DTSTART:19390101T000000
TZOFFSETFROM:+0900
TZOFFSETTO:+0900
TZNAME:JST
END:STANDARD
END:VTIMEZONE
BEGIN:VEVENT
UID:202604221130_88704
DTSTAMP:20260422T113011
SUMMARY:キャッシュレス決済2026 進展する制度・市場の全体像と最新動向
LOCATION:紀尾井フォーラム
DESCRIPTION:https://www.ssk21.co.jp/S0000103.php?gpage=26318
DTSTART;TZID=Japan:20260624T130000
DTEND;TZID=Japan:20260624T160000
TRANSP:OPAQUE
SEQUENCE:1
PRIORITY:0
RELATED-TO;RELTYPE=SIBLING:<202604221130_88704>
CLASS:PUBLIC
END:VEVENT
END:VCALENDAR
