BEGIN:VCALENDAR
PRODID:-//SoftBank Creative//Manually 1.1//EN
VERSION:2.0
METHOD:PUBLISH
BEGIN:VTIMEZONE
TZID:Japan
BEGIN:STANDARD
DTSTART:19390101T000000
TZOFFSETFROM:+0900
TZOFFSETTO:+0900
TZNAME:JST
END:STANDARD
END:VTIMEZONE
BEGIN:VEVENT
UID:202604211559_88705
DTSTAMP:20260421T155929
SUMMARY:AIセキュリティの今が分かる　～生成AIに対する脅威とCisco AI Defenseでの対策方法を
LOCATION:
DESCRIPTION:https://go.macnica.co.jp/Entry-MNC-OS-CSC-20260515-AISec.html
DTSTART;TZID=Japan:20260515T150000
DTEND;TZID=Japan:20260515T160000
TRANSP:OPAQUE
SEQUENCE:1
PRIORITY:0
RELATED-TO;RELTYPE=SIBLING:<202604211559_88705>
CLASS:PUBLIC
END:VEVENT
END:VCALENDAR
