BEGIN:VCALENDAR
PRODID:-//SoftBank Creative//Manually 1.1//EN
VERSION:2.0
METHOD:PUBLISH
BEGIN:VTIMEZONE
TZID:Japan
BEGIN:STANDARD
DTSTART:19390101T000000
TZOFFSETFROM:+0900
TZOFFSETTO:+0900
TZNAME:JST
END:STANDARD
END:VTIMEZONE
BEGIN:VEVENT
UID:202604211619_88706
DTSTAMP:20260421T161916
SUMMARY:止めない業務アプリは「開発」と「運用」でつくる
LOCATION:
DESCRIPTION:https://jpn.nec.com/websam/websamcloud/event/seminar20260609_CanonITS.html
DTSTART;TZID=Japan:20260609T140000
DTEND;TZID=Japan:20260609T150000
TRANSP:OPAQUE
SEQUENCE:1
PRIORITY:0
RELATED-TO;RELTYPE=SIBLING:<202604211619_88706>
CLASS:PUBLIC
END:VEVENT
END:VCALENDAR
