BEGIN:VCALENDAR
PRODID:-//SoftBank Creative//Manually 1.1//EN
VERSION:2.0
METHOD:PUBLISH
BEGIN:VTIMEZONE
TZID:Japan
BEGIN:STANDARD
DTSTART:19390101T000000
TZOFFSETFROM:+0900
TZOFFSETTO:+0900
TZNAME:JST
END:STANDARD
END:VTIMEZONE
BEGIN:VEVENT
UID:202604221905_88707
DTSTAMP:20260422T190515
SUMMARY:経産省「セキュリティ対策評価制度」 結局どうしたらいいの
LOCATION:
DESCRIPTION:https://acronis.events/ja-jp/event/meti-3star-sp/
DTSTART;TZID=Japan:20260512T150000
DTEND;TZID=Japan:20260512T160000
TRANSP:OPAQUE
SEQUENCE:1
PRIORITY:0
RELATED-TO;RELTYPE=SIBLING:<202604221905_88707>
CLASS:PUBLIC
END:VEVENT
END:VCALENDAR
