BEGIN:VCALENDAR
PRODID:-//SoftBank Creative//Manually 1.1//EN
VERSION:2.0
METHOD:PUBLISH
BEGIN:VTIMEZONE
TZID:Japan
BEGIN:STANDARD
DTSTART:19390101T000000
TZOFFSETFROM:+0900
TZOFFSETTO:+0900
TZNAME:JST
END:STANDARD
END:VTIMEZONE
BEGIN:VEVENT
UID:202604211929_88709
DTSTAMP:20260421T192910
SUMMARY:パッチ管理をとりまく環境変化と、これからのあるべき姿 ~NinjaOne~
LOCATION:
DESCRIPTION:https://go.macnica.co.jp/Entry-MNC-OS-NJ1-20260519-Patch.html
DTSTART;TZID=Japan:20260519T140000
DTEND;TZID=Japan:20260519T150000
TRANSP:OPAQUE
SEQUENCE:1
PRIORITY:0
RELATED-TO;RELTYPE=SIBLING:<202604211929_88709>
CLASS:PUBLIC
END:VEVENT
END:VCALENDAR
