BEGIN:VCALENDAR
PRODID:-//SoftBank Creative//Manually 1.1//EN
VERSION:2.0
METHOD:PUBLISH
BEGIN:VTIMEZONE
TZID:Japan
BEGIN:STANDARD
DTSTART:19390101T000000
TZOFFSETFROM:+0900
TZOFFSETTO:+0900
TZNAME:JST
END:STANDARD
END:VTIMEZONE
BEGIN:VEVENT
UID:202604221818_88713
DTSTAMP:20260422T181857
SUMMARY:サプライチェーン強化に向けたセキュリティ対策評価制度（SCS評価制度）を解説
LOCATION:オンライン
DESCRIPTION:https://fsi.sfsite.me/20260513
DTSTART;TZID=Japan:20260513T150000
DTEND;TZID=Japan:20260513T154000
TRANSP:OPAQUE
SEQUENCE:1
PRIORITY:0
RELATED-TO;RELTYPE=SIBLING:<202604221818_88713>
CLASS:PUBLIC
END:VEVENT
END:VCALENDAR
