BEGIN:VCALENDAR
PRODID:-//SoftBank Creative//Manually 1.1//EN
VERSION:2.0
METHOD:PUBLISH
BEGIN:VTIMEZONE
TZID:Japan
BEGIN:STANDARD
DTSTART:19390101T000000
TZOFFSETFROM:+0900
TZOFFSETTO:+0900
TZNAME:JST
END:STANDARD
END:VTIMEZONE
BEGIN:VEVENT
UID:202604221636_88715
DTSTAMP:20260422T163613
SUMMARY:導入前に差がつく！ RPA成功の秘訣
LOCATION:
DESCRIPTION:https://www.nttd-bb.com/event/smn20260605.html?utm_source=sbbit&utm_medium=other&utm_campaign=20260422_sales
DTSTART;TZID=Japan:20260605T103000
DTEND;TZID=Japan:20260605T113000
TRANSP:OPAQUE
SEQUENCE:1
PRIORITY:0
RELATED-TO;RELTYPE=SIBLING:<202604221636_88715>
CLASS:PUBLIC
END:VEVENT
END:VCALENDAR
