BEGIN:VCALENDAR
PRODID:-//SoftBank Creative//Manually 1.1//EN
VERSION:2.0
METHOD:PUBLISH
BEGIN:VTIMEZONE
TZID:Japan
BEGIN:STANDARD
DTSTART:19390101T000000
TZOFFSETFROM:+0900
TZOFFSETTO:+0900
TZNAME:JST
END:STANDARD
END:VTIMEZONE
BEGIN:VEVENT
UID:202604221904_88718
DTSTAMP:20260422T190422
SUMMARY:2026年KECセミナー「半導体 先端製造技術と日本の挑戦」
LOCATION:パナソニック ホールディングス株式会社 技術部門 Technology CUBE（Zoomオンライン
DESCRIPTION:https://www.kec.jp/img/committee/2026/kec26.pdf
DTSTART;TZID=Japan:20260708T130000
DTEND;TZID=Japan:20260708T190000
TRANSP:OPAQUE
SEQUENCE:1
PRIORITY:0
RELATED-TO;RELTYPE=SIBLING:<202604221904_88718>
CLASS:PUBLIC
END:VEVENT
END:VCALENDAR
