BEGIN:VCALENDAR
PRODID:-//SoftBank Creative//Manually 1.1//EN
VERSION:2.0
METHOD:PUBLISH
BEGIN:VTIMEZONE
TZID:Japan
BEGIN:STANDARD
DTSTART:19390101T000000
TZOFFSETFROM:+0900
TZOFFSETTO:+0900
TZNAME:JST
END:STANDARD
END:VTIMEZONE
BEGIN:VEVENT
UID:202604221904_88719
DTSTAMP:20260422T190421
SUMMARY:Acronis Cyber Day Japan 2026
LOCATION:
DESCRIPTION:https://acronis.events/ja-jp/event/acdj2026-pub/
DTSTART;TZID=Japan:20260520T140000
DTEND;TZID=Japan:20260520T194500
TRANSP:OPAQUE
SEQUENCE:1
PRIORITY:0
RELATED-TO;RELTYPE=SIBLING:<202604221904_88719>
CLASS:PUBLIC
END:VEVENT
END:VCALENDAR
