BEGIN:VCALENDAR
PRODID:-//SoftBank Creative//Manually 1.1//EN
VERSION:2.0
METHOD:PUBLISH
BEGIN:VTIMEZONE
TZID:Japan
BEGIN:STANDARD
DTSTART:19390101T000000
TZOFFSETFROM:+0900
TZOFFSETTO:+0900
TZNAME:JST
END:STANDARD
END:VTIMEZONE
BEGIN:VEVENT
UID:202604241251_88722
DTSTAMP:20260424T125116
SUMMARY:Robot Transformation（RX）最前線
LOCATION:紀尾井フォーラム
DESCRIPTION:https://www.ssk21.co.jp/S0000103.php?gpage=26324
DTSTART;TZID=Japan:20260619T140000
DTEND;TZID=Japan:20260619T160000
TRANSP:OPAQUE
SEQUENCE:1
PRIORITY:0
RELATED-TO;RELTYPE=SIBLING:<202604241251_88722>
CLASS:PUBLIC
END:VEVENT
END:VCALENDAR
