BEGIN:VCALENDAR
PRODID:-//SoftBank Creative//Manually 1.1//EN
VERSION:2.0
METHOD:PUBLISH
BEGIN:VTIMEZONE
TZID:Japan
BEGIN:STANDARD
DTSTART:19390101T000000
TZOFFSETFROM:+0900
TZOFFSETTO:+0900
TZNAME:JST
END:STANDARD
END:VTIMEZONE
BEGIN:VEVENT
UID:202604231550_88726
DTSTAMP:20260423T155052
SUMMARY:RPA「WinActor」～『UIオートメーション』Excelシナリオ改善事例～
LOCATION:
DESCRIPTION:https://www.nttd-bb.com/event/smn20260630.html?utm_source=sbbit&utm_medium=other&utm_campaign=20260423_sales
DTSTART;TZID=Japan:20260630T000000
DTEND;TZID=Japan:20260630T235500
TRANSP:OPAQUE
SEQUENCE:1
PRIORITY:0
RELATED-TO;RELTYPE=SIBLING:<202604231550_88726>
CLASS:PUBLIC
END:VEVENT
END:VCALENDAR
