BEGIN:VCALENDAR
PRODID:-//SoftBank Creative//Manually 1.1//EN
VERSION:2.0
METHOD:PUBLISH
BEGIN:VTIMEZONE
TZID:Japan
BEGIN:STANDARD
DTSTART:19390101T000000
TZOFFSETFROM:+0900
TZOFFSETTO:+0900
TZNAME:JST
END:STANDARD
END:VTIMEZONE
BEGIN:VEVENT
UID:202604231550_88727
DTSTAMP:20260423T155052
SUMMARY:150自治体で導入　SMSで住民連絡を効率化！
LOCATION:
DESCRIPTION:https://info.nttcoms.com/l/82272/2026-04-22/f29m8q
DTSTART;TZID=Japan:20260521T130000
DTEND;TZID=Japan:20260521T134500
TRANSP:OPAQUE
SEQUENCE:1
PRIORITY:0
RELATED-TO;RELTYPE=SIBLING:<202604231550_88727>
CLASS:PUBLIC
END:VEVENT
END:VCALENDAR
