BEGIN:VCALENDAR
PRODID:-//SoftBank Creative//Manually 1.1//EN
VERSION:2.0
METHOD:PUBLISH
BEGIN:VTIMEZONE
TZID:Japan
BEGIN:STANDARD
DTSTART:19390101T000000
TZOFFSETFROM:+0900
TZOFFSETTO:+0900
TZNAME:JST
END:STANDARD
END:VTIMEZONE
BEGIN:VEVENT
UID:202604231937_88728
DTSTAMP:20260423T193729
SUMMARY:採用面接で押さえるべきポイント-社員は充足していますか？-
LOCATION:WEBセミナー
DESCRIPTION:https://go.all-different.co.jp/l/134681/2025-11-18/6k3q9l
DTSTART;TZID=Japan:20260528T100000
DTEND;TZID=Japan:20260528T110000
TRANSP:OPAQUE
SEQUENCE:1
PRIORITY:0
RELATED-TO;RELTYPE=SIBLING:<202604231937_88728>
CLASS:PUBLIC
END:VEVENT
END:VCALENDAR
