BEGIN:VCALENDAR
PRODID:-//SoftBank Creative//Manually 1.1//EN
VERSION:2.0
METHOD:PUBLISH
BEGIN:VTIMEZONE
TZID:Japan
BEGIN:STANDARD
DTSTART:19390101T000000
TZOFFSETFROM:+0900
TZOFFSETTO:+0900
TZNAME:JST
END:STANDARD
END:VTIMEZONE
BEGIN:VEVENT
UID:202604241839_88735
DTSTAMP:20260424T183910
SUMMARY:ActiveImage Protectorの新機能紹介と仮想環境バックアップの運用
LOCATION:
DESCRIPTION:https://www.actiphy.com/ja-jp/seminar/
DTSTART;TZID=Japan:20260625T143000
DTEND;TZID=Japan:20260625T150000
TRANSP:OPAQUE
SEQUENCE:1
PRIORITY:0
RELATED-TO;RELTYPE=SIBLING:<202604241839_88735>
CLASS:PUBLIC
END:VEVENT
END:VCALENDAR
