BEGIN:VCALENDAR
PRODID:-//SoftBank Creative//Manually 1.1//EN
VERSION:2.0
METHOD:PUBLISH
BEGIN:VTIMEZONE
TZID:Japan
BEGIN:STANDARD
DTSTART:19390101T000000
TZOFFSETFROM:+0900
TZOFFSETTO:+0900
TZNAME:JST
END:STANDARD
END:VTIMEZONE
BEGIN:VEVENT
UID:202604241839_88744
DTSTAMP:20260424T183911
SUMMARY:ユーザーの生の声から学ぶ、奉行クラウド×kintone連携で実現するバックオフィス業務改善セミナー
LOCATION:オンライン
DESCRIPTION:https://solution.ndisol.jp/seminar_event/202605bugyo-kintone
DTSTART;TZID=Japan:20260519T160000
DTEND;TZID=Japan:20260519T170000
TRANSP:OPAQUE
SEQUENCE:1
PRIORITY:0
RELATED-TO;RELTYPE=SIBLING:<202604241839_88744>
CLASS:PUBLIC
END:VEVENT
END:VCALENDAR
