BEGIN:VCALENDAR
PRODID:-//SoftBank Creative//Manually 1.1//EN
VERSION:2.0
METHOD:PUBLISH
BEGIN:VTIMEZONE
TZID:Japan
BEGIN:STANDARD
DTSTART:19390101T000000
TZOFFSETFROM:+0900
TZOFFSETTO:+0900
TZNAME:JST
END:STANDARD
END:VTIMEZONE
BEGIN:VEVENT
UID:202604241839_88749
DTSTAMP:20260424T183905
SUMMARY:企業内検索×生成AIで業務改革【ナレッジ活用のよくある課題と解決法】
LOCATION:
DESCRIPTION:https://www.sei-info.co.jp/quicksolution/event/webinar-qs/?argument=EkZKmXCQ&dmai=semiqsbs#k-util
DTSTART;TZID=Japan:20260624T160000
DTEND;TZID=Japan:20260624T170000
TRANSP:OPAQUE
SEQUENCE:1
PRIORITY:0
RELATED-TO;RELTYPE=SIBLING:<202604241839_88749>
CLASS:PUBLIC
END:VEVENT
END:VCALENDAR
