BEGIN:VCALENDAR
PRODID:-//SoftBank Creative//Manually 1.1//EN
VERSION:2.0
METHOD:PUBLISH
BEGIN:VTIMEZONE
TZID:Japan
BEGIN:STANDARD
DTSTART:19390101T000000
TZOFFSETFROM:+0900
TZOFFSETTO:+0900
TZNAME:JST
END:STANDARD
END:VTIMEZONE
BEGIN:VEVENT
UID:202604241839_88751
DTSTAMP:20260424T183904
SUMMARY:NISTによるCVE運用見直し、その影響と今後の脆弱性管理
LOCATION:
DESCRIPTION:https://recordedfuture.registration.goldcast.io/webinar/e99070fe-8990-4a9d-87e5-1308a001915a
DTSTART;TZID=Japan:20260428T130000
DTEND;TZID=Japan:20260428T134000
TRANSP:OPAQUE
SEQUENCE:1
PRIORITY:0
RELATED-TO;RELTYPE=SIBLING:<202604241839_88751>
CLASS:PUBLIC
END:VEVENT
END:VCALENDAR
