BEGIN:VCALENDAR
PRODID:-//SoftBank Creative//Manually 1.1//EN
VERSION:2.0
METHOD:PUBLISH
BEGIN:VTIMEZONE
TZID:Japan
BEGIN:STANDARD
DTSTART:19390101T000000
TZOFFSETFROM:+0900
TZOFFSETTO:+0900
TZNAME:JST
END:STANDARD
END:VTIMEZONE
BEGIN:VEVENT
UID:202604241839_88752
DTSTAMP:20260424T183904
SUMMARY:失敗しない HPE Morpheus データ保護。Veeam と HPE Zerto、それぞれの強み
LOCATION:
DESCRIPTION:https://www.climb.co.jp/soft/webseminar/2026/0520/?seminarsite
DTSTART;TZID=Japan:20260520T150000
DTEND;TZID=Japan:20260520T153500
TRANSP:OPAQUE
SEQUENCE:1
PRIORITY:0
RELATED-TO;RELTYPE=SIBLING:<202604241839_88752>
CLASS:PUBLIC
END:VEVENT
END:VCALENDAR
